BEGIN:VCALENDAR
VERSION:2.0
PRODID:-//Eastminster Presbyterian Church - ECPv6.15.20//NONSGML v1.0//EN
CALSCALE:GREGORIAN
METHOD:PUBLISH
X-WR-CALNAME:Eastminster Presbyterian Church
X-ORIGINAL-URL:https://epres.org
X-WR-CALDESC:Events for Eastminster Presbyterian Church
REFRESH-INTERVAL;VALUE=DURATION:PT1H
X-Robots-Tag:noindex
X-PUBLISHED-TTL:PT1H
BEGIN:VTIMEZONE
TZID:America/New_York
BEGIN:DAYLIGHT
TZOFFSETFROM:-0500
TZOFFSETTO:-0400
TZNAME:EDT
DTSTART:20250309T070000
END:DAYLIGHT
BEGIN:STANDARD
TZOFFSETFROM:-0400
TZOFFSETTO:-0500
TZNAME:EST
DTSTART:20251102T060000
END:STANDARD
BEGIN:DAYLIGHT
TZOFFSETFROM:-0500
TZOFFSETTO:-0400
TZNAME:EDT
DTSTART:20260308T070000
END:DAYLIGHT
BEGIN:STANDARD
TZOFFSETFROM:-0400
TZOFFSETTO:-0500
TZNAME:EST
DTSTART:20261101T060000
END:STANDARD
BEGIN:DAYLIGHT
TZOFFSETFROM:-0500
TZOFFSETTO:-0400
TZNAME:EDT
DTSTART:20270314T070000
END:DAYLIGHT
BEGIN:STANDARD
TZOFFSETFROM:-0400
TZOFFSETTO:-0500
TZNAME:EST
DTSTART:20271107T060000
END:STANDARD
END:VTIMEZONE
BEGIN:VEVENT
DTSTART;TZID=America/New_York:20260422T100000
DTEND;TZID=America/New_York:20260422T120000
DTSTAMP:20260422T122330
CREATED:20250221T175842Z
LAST-MODIFIED:20260416T162025Z
UID:10007067-1776852000-1776859200@epres.org
SUMMARY:Women's Bible Study
DESCRIPTION:
URL:https://epres.org/event/womens-bible-study-87/
LOCATION:Parlor
CATEGORIES:Bible Study
END:VEVENT
BEGIN:VEVENT
DTSTART;TZID=America/New_York:20260422T131500
DTEND;TZID=America/New_York:20260422T134500
DTSTAMP:20260422T122330
CREATED:20251024T174553Z
LAST-MODIFIED:20260416T162520Z
UID:10009284-1776863700-1776865500@epres.org
SUMMARY:Preschool Kidokinetics 2s and 3s
DESCRIPTION:
URL:https://epres.org/event/preschool-kidokinetics-2s-and-3s-31/
LOCATION:Gym
CATEGORIES:Eastminster Christian Preschool
END:VEVENT
BEGIN:VEVENT
DTSTART;TZID=America/New_York:20260422T131500
DTEND;TZID=America/New_York:20260422T134500
DTSTAMP:20260422T122330
CREATED:20251024T174553Z
LAST-MODIFIED:20260416T162520Z
UID:10009285-1776863700-1776865500@epres.org
SUMMARY:Preschool Martial Arts
DESCRIPTION:
URL:https://epres.org/event/preschool-martial-arts-31/
LOCATION:Fellowship Hall
CATEGORIES:Eastminster Christian Preschool
END:VEVENT
BEGIN:VEVENT
DTSTART;TZID=America/New_York:20260422T173000
DTEND;TZID=America/New_York:20260422T180000
DTSTAMP:20260422T122330
CREATED:20251205T202920Z
LAST-MODIFIED:20260416T161816Z
UID:10009570-1776879000-1776880800@epres.org
SUMMARY:Wednesday Night Dinner
DESCRIPTION:Register Here
URL:https://epres.org/event/wednesday-night-dinner-126/
CATEGORIES:Eastminster Presbyterian Church,Event
ATTACH;FMTTYPE=image/png:https://epres.org/wp-content/uploads/2025/07/Wednesday-Night-Dinner-.png
END:VEVENT
BEGIN:VEVENT
DTSTART;TZID=America/New_York:20260422T180000
DTEND;TZID=America/New_York:20260422T190000
DTSTAMP:20260422T122330
CREATED:20240605T162332Z
LAST-MODIFIED:20260416T162709Z
UID:10004899-1776880800-1776884400@epres.org
SUMMARY:Bell Choir
DESCRIPTION:
URL:https://epres.org/event/bell-choir-137/
LOCATION:Sanctuary
CATEGORIES:Meetings,Music Ministry
END:VEVENT
BEGIN:VEVENT
DTSTART;TZID=America/New_York:20260422T183000
DTEND;TZID=America/New_York:20260422T193000
DTSTAMP:20260422T122330
CREATED:20251223T210804Z
LAST-MODIFIED:20260416T162222Z
UID:10009683-1776882600-1776886200@epres.org
SUMMARY:Kidventure
DESCRIPTION:
URL:https://epres.org/event/kidventure-14/
LOCATION:Room 206
CATEGORIES:Children's Ministry
END:VEVENT
BEGIN:VEVENT
DTSTART;TZID=America/New_York:20260422T183000
DTEND;TZID=America/New_York:20260422T200000
DTSTAMP:20260422T122330
CREATED:20250221T175843Z
LAST-MODIFIED:20251010T193741Z
UID:10007068-1776882600-1776888000@epres.org
SUMMARY:Happy Rocks
DESCRIPTION:
URL:https://epres.org/event/happy-rocks-38/
LOCATION:Library
CATEGORIES:Bible Study
END:VEVENT
BEGIN:VEVENT
DTSTART;TZID=America/New_York:20260422T183000
DTEND;TZID=America/New_York:20260422T200000
DTSTAMP:20260422T122330
CREATED:20251205T203103Z
LAST-MODIFIED:20260416T162331Z
UID:10009596-1776882600-1776888000@epres.org
SUMMARY:Wednesday Night Bible Study
DESCRIPTION:
URL:https://epres.org/event/wednesday-night-bible-study-118/
CATEGORIES:Christian Education
END:VEVENT
BEGIN:VEVENT
DTSTART;TZID=America/New_York:20260422T183000
DTEND;TZID=America/New_York:20260422T203000
DTSTAMP:20260422T122330
CREATED:20250725T173902Z
LAST-MODIFIED:20260416T162848Z
UID:10008712-1776882600-1776889800@epres.org
SUMMARY:Youth Bible Study
DESCRIPTION:
URL:https://epres.org/event/youth-bible-study-131/
CATEGORIES:Youth Ministry
END:VEVENT
BEGIN:VEVENT
DTSTART;TZID=America/New_York:20260422T190000
DTEND;TZID=America/New_York:20260422T210000
DTSTAMP:20260422T122330
CREATED:20240605T162332Z
LAST-MODIFIED:20260416T162709Z
UID:10004900-1776884400-1776891600@epres.org
SUMMARY:Chancel Choir Rehearsal
DESCRIPTION:
URL:https://epres.org/event/chancel-choir-rehearsal-155/
LOCATION:Sanctuary
CATEGORIES:Meetings,Music Ministry
END:VEVENT
BEGIN:VEVENT
DTSTART;TZID=America/New_York:20260422T193000
DTEND;TZID=America/New_York:20260422T203000
DTSTAMP:20260422T122330
CREATED:20250806T190532Z
LAST-MODIFIED:20260416T162709Z
UID:10008871-1776886200-1776889800@epres.org
SUMMARY:Worship Practice
DESCRIPTION:
URL:https://epres.org/event/worship-practice-38/
LOCATION:CLC Gym
CATEGORIES:Music Ministry
END:VEVENT
END:VCALENDAR